BEGIN:VCALENDAR
VERSION:2.0
PRODID:-//hacksw/handcal//NONSGML v1.0//EN
CALSCALE:GREGORIAN
BEGIN:VEVENT
LOCATION:Drøbak Golfklubb
DESCRIPTION:Vi i NetNordic ønsker å invitere deg til en dag med golf og nettverksbygging på vår NetNordic OPEN golfturnering. Dette arrangementet gir oss en flott mulighet til å takke deg for din støtte og samtidig skape verdifulle forbindelser mellom bransjefolk.
DTSTART:20240912T070000Z
DTEND:20240912T150000Z
SUMMARY:NetNordic OPEN 2024
URL;VALUE=URI:https://netnordic.no/events/netnordic-open-2024/
DTSTAMP:20260421T230923Z
UID:69e803a3396b7
END:VEVENT
END:VCALENDAR