BEGIN:VCALENDAR
VERSION:2.0
PRODID:-//hacksw/handcal//NONSGML v1.0//EN
CALSCALE:GREGORIAN
BEGIN:VEVENT
LOCATION:Webinar
DESCRIPTION:Å drive systemer i skyen medfører utfordringer som sikkerhet\, samsvar\, ytelse\, kostnadsstyring\, kompleks integrasjon og skalerbarhet. Disse temaene er ofte i fokus for selskaper som allerede har gått over til skyen og nå konsentrerer seg om de mer komplekse utfordringene ved skyoperasjon.
DTSTART:20240625T070000Z
DTEND:20240625T073000Z
SUMMARY:CloudTalk – Utfordringer med å være i cloud
URL;VALUE=URI:https://netnordic.no/events/cloudtalk-utfordringer-med-a-vaere-i-cloud/
DTSTAMP:20260421T142452Z
UID:69e788b4dc0b7
END:VEVENT
END:VCALENDAR