BEGIN:VCALENDAR
VERSION:2.0
PRODID:-//hacksw/handcal//NONSGML v1.0//EN
CALSCALE:GREGORIAN
BEGIN:VEVENT
LOCATION:Det Norske Teatre
DESCRIPTION:Vi gjentar suksessen fra i fjor – Gjør deg klar til året Summit 2024
DTSTART:20240605T090000Z
DTEND:20240605T215900Z
SUMMARY:Summit 2024
URL;VALUE=URI:https://netnordic.no/events/summit-2024/
DTSTAMP:20260421T232153Z
UID:69e806919d97c
END:VEVENT
END:VCALENDAR