BEGIN:VCALENDAR
VERSION:2.0
PRODID:-//hacksw/handcal//NONSGML v1.0//EN
CALSCALE:GREGORIAN
BEGIN:VEVENT
LOCATION:Webinar
DESCRIPTION:Bli med på NetNordic NetTalk – 30 Minutes – et nabolagshotell blir til\, hvor vi snakker med Wilhelm Hartwig CEO og Co-grunnlegger av Att | Kvadraturen\, som vil at hotellet skal bli husket som – A new way to stay!
DTSTART:20240430T070000Z
DTEND:20240430T073000Z
SUMMARY:NetTalk 30 Minutes – Et nabolagshotell blir til
URL;VALUE=URI:https://netnordic.no/events/nettalk-30-minutes-et-nabolagshotell-blir-til/
DTSTAMP:20260421T231703Z
UID:69e8056f4fdf7
END:VEVENT
END:VCALENDAR