BEGIN:VCALENDAR
VERSION:2.0
PRODID:-//hacksw/handcal//NONSGML v1.0//EN
CALSCALE:GREGORIAN
BEGIN:VEVENT
LOCATION:Hotel Oleana
DESCRIPTION:NetNordic inviterer til fagdag om Cyber- og informasjonssikkerhet. Bli med oss i lokalene til Hotel Oleana\, Øvre Ole Bulls plass 5\, 5012 Bergen. Du finner oss i møterommet som heter Broadway.
DTSTART:20240912T110000Z
DTEND:20240912T140000Z
SUMMARY:NetNordic Sikkerhetssymposium
URL;VALUE=URI:https://netnordic.no/events/netnordic-sikkerhetssymposium/
DTSTAMP:20260421T231219Z
UID:69e80453d57d8
END:VEVENT
END:VCALENDAR